BEGIN:VCALENDAR
VERSION:2.0
PRODID:icalendar-ruby
CALSCALE:GREGORIAN
METHOD:PUBLISH
BEGIN:VEVENT
DTSTAMP:20260421T125830Z
UID:196-11857@fhibctn.org
DTSTART:20260511T230000Z
DTEND:20260512T010000Z
CLASS:PUBLIC
CREATED:20260420T103234
DESCRIPTION:
LAST-MODIFIED:20260420T103234
LOCATION:To Be Determined
SUMMARY:Cottage Prayer Meeting 
URL;VALUE=URI:https://fhibctn.org/events/cottage-prayer-meeting--196/2026-0
 5-11
ATTACH;FILENAME=group-different-women-praying-together-group-different-wome
 n-praying-together-christians-bible-study-concept-173554679.webp;FMTTYPE=i
 mage/webp:https://dq5pwpg1q8ru0.cloudfront.net/2026/04/20/15/32/34/aa56c05
 4-3601-44c9-8944-b947b9e16f4d/group-different-women-praying-together-group
 -different-women-praying-together-christians-bible-study-concept-173554679
 .webp
END:VEVENT
END:VCALENDAR
