BEGIN:VCALENDAR
VERSION:2.0
PRODID:icalendar-ruby
CALSCALE:GREGORIAN
METHOD:PUBLISH
BEGIN:VEVENT
DTSTAMP:20260421T114510Z
UID:197-11858@fhibctn.org
DTSTART;VALUE=DATE:20260424
DTEND;VALUE=DATE:20260424
CLASS:PUBLIC
CREATED:20260420T103410
DESCRIPTION:
LAST-MODIFIED:20260420T103410
LOCATION:
SUMMARY:Game Night
URL;VALUE=URI:https://fhibctn.org/events/game-night--197/2026-04-24
ATTACH;FILENAME=ResizeImageFilter_edited.jpg;FMTTYPE=image/jpeg:https://dq5
 pwpg1q8ru0.cloudfront.net/2026/04/20/15/34/09/130cc7f6-b02b-402e-ab92-5ed1
 6c0aed07/ResizeImageFilter_edited.jpg
END:VEVENT
END:VCALENDAR
